BEGIN:VCALENDAR
VERSION:2.0
PRODID:-//Choose Yourself - ECPv6.13.2.1//NONSGML v1.0//EN
CALSCALE:GREGORIAN
METHOD:PUBLISH
X-WR-CALNAME:Choose Yourself
X-ORIGINAL-URL:https://www.chooseyourself.website
X-WR-CALDESC:Events for Choose Yourself
REFRESH-INTERVAL;VALUE=DURATION:PT1H
X-Robots-Tag:noindex
X-PUBLISHED-TTL:PT1H
BEGIN:VTIMEZONE
TZID:UTC
BEGIN:STANDARD
TZOFFSETFROM:+0000
TZOFFSETTO:+0000
TZNAME:UTC
DTSTART:20210101T000000
END:STANDARD
END:VTIMEZONE
BEGIN:VEVENT
DTSTART;VALUE=DATE:20210521
DTEND;VALUE=DATE:20210525
DTSTAMP:20260423T091055
CREATED:20210331T204408Z
LAST-MODIFIED:20230222T173127Z
UID:3092-1621555200-1621900799@www.chooseyourself.website
SUMMARY:Love Is Healing Retreat
DESCRIPTION:Choose Yourself Presents LOVE IS HEALING: A Retreat to be held.\n\n \n\nVENUE:NEWRY MAINE\n\nDATE: 21-24 MAY\, 2021\n\nClick here to register
URL:https://www.chooseyourself.website/event/love-is-healing-retreat/
LOCATION:NEWRY MAINE\, Maine\, ME\, United States
CATEGORIES:Retreats
ATTACH;FMTTYPE=image/jpeg:https://www.chooseyourself.website/wp-content/uploads/2021/03/WhatsApp-Image-2021-03-31-at-6.10.54-PM-2.jpeg
END:VEVENT
END:VCALENDAR